BEGIN:VCALENDAR
VERSION:2.0
PRODID:spatie/icalendar-generator
DESCRIPTION:Veranstaltungen von EFG Paderborn
X-WR-CALDESC:Veranstaltungen von EFG Paderborn
REFRESH-INTERVAL;VALUE=DURATION:PT1440M
X-PUBLISHED-TTL:PT1440M
BEGIN:VTIMEZONE
TZID:Europe/Berlin
BEGIN:STANDARD
DTSTART:20231029T030000Z
TZOFFSETFROM:+0200
TZOFFSETTO:+0100
END:STANDARD
BEGIN:DAYLIGHT
DTSTART:20240331T020000Z
TZOFFSETFROM:+0100
TZOFFSETTO:+0200
END:DAYLIGHT
END:VTIMEZONE
BEGIN:VTIMEZONE
TZID:UTC
BEGIN:STANDARD
DTSTART:20250725T100231Z
TZOFFSETFROM:+0000
TZOFFSETTO:+0000
END:STANDARD
END:VTIMEZONE
BEGIN:VEVENT
UID:46-14
DTSTAMP:20260421T100231Z
SUMMARY:Inseltag für Frauen
LOCATION:EFG Soest
ORGANIZER;CN=EFG Paderborn:MAILTO:website@efg-paderborn.de
DTSTART;TZID=Europe/Berlin:20240309T140000
DTEND;TZID=Europe/Berlin:20240309T173000
X-ALT-DESC;FMTTYPE=TEXT/HTML:Nur Mut...mehr als nur aufstehen\, Krönchen r
 ichten und weitergehen Wie können wir „zukunftsmutig“ sein\, werden u
 nd bleiben? Der Arbeitskreis Frauen im Landesverband NRW lädt an diesem N
 achmittag zu verschiedenen thematischen Impulsen und Workshops\, zu Gemein
 schaft und Austausch ein. Die Teilnahme ist kostenlos\, über eine Spende 
 für Kaffee\, Kuchen etc. freut sich der Veranstalter.
CATEGORIES:Besonderes
URL;VALUE=URI:https://efg-paderborn.de/mc-events/inseltag-fuer-frauen/
METHOD:PUBLISH
END:VEVENT
END:VCALENDAR