BEGIN:VCALENDAR
VERSION:2.0
PRODID:spatie/icalendar-generator
DESCRIPTION:Veranstaltungen von EFG Paderborn
X-WR-CALDESC:Veranstaltungen von EFG Paderborn
REFRESH-INTERVAL;VALUE=DURATION:PT1440M
X-PUBLISHED-TTL:PT1440M
BEGIN:VTIMEZONE
TZID:Europe/Berlin
BEGIN:STANDARD
DTSTART:20231029T030000Z
TZOFFSETFROM:+0200
TZOFFSETTO:+0100
END:STANDARD
BEGIN:DAYLIGHT
DTSTART:20240331T020000Z
TZOFFSETFROM:+0100
TZOFFSETTO:+0200
END:DAYLIGHT
END:VTIMEZONE
BEGIN:VTIMEZONE
TZID:UTC
BEGIN:STANDARD
DTSTART:20250725T205947Z
TZOFFSETFROM:+0000
TZOFFSETTO:+0000
END:STANDARD
END:VTIMEZONE
BEGIN:VEVENT
UID:65-7
DTSTAMP:20260421T205947Z
SUMMARY:Gebetskreis
LOCATION:Königskinderraum
ORGANIZER;CN=EFG Paderborn:MAILTO:website@efg-paderborn.de
RRULE:FREQ=WEEKLY;UNTIL=20251231T000000Z
DTSTART;TZID=Europe/Berlin:20240411T180000
DTEND;TZID=Europe/Berlin:20240411T190000
X-ALT-DESC;FMTTYPE=TEXT/HTML:
CATEGORIES:Gruppen
URL;VALUE=URI:https://efg-paderborn.de/mc-events/gebetskreis/?mc_id=65
METHOD:PUBLISH
END:VEVENT
END:VCALENDAR