BEGIN:VCALENDAR
VERSION:2.0
PRODID:spatie/icalendar-generator
DESCRIPTION:Veranstaltungen von EFG Paderborn
X-WR-CALDESC:Veranstaltungen von EFG Paderborn
REFRESH-INTERVAL;VALUE=DURATION:PT1440M
X-PUBLISHED-TTL:PT1440M
BEGIN:VTIMEZONE
TZID:Europe/Berlin
BEGIN:STANDARD
DTSTART:20231029T030000Z
TZOFFSETFROM:+0200
TZOFFSETTO:+0100
END:STANDARD
BEGIN:DAYLIGHT
DTSTART:20240331T020000Z
TZOFFSETFROM:+0100
TZOFFSETTO:+0200
END:DAYLIGHT
END:VTIMEZONE
BEGIN:VTIMEZONE
TZID:UTC
BEGIN:STANDARD
DTSTART:20250726T014628Z
TZOFFSETFROM:+0000
TZOFFSETTO:+0000
END:STANDARD
END:VTIMEZONE
BEGIN:VEVENT
UID:71-4
DTSTAMP:20260422T014628Z
SUMMARY:Krabbelgruppe
LOCATION:Privat
ORGANIZER;CN=EFG Paderborn:MAILTO:website@efg-paderborn.de
RRULE:FREQ=WEEKLY;UNTIL=20240627T000000Z
DTSTART;TZID=Europe/Berlin:20240411T093000
DTEND;TZID=Europe/Berlin:20240411T103000
X-ALT-DESC;FMTTYPE=TEXT/HTML:Ort und Infos über: krabbelgruppe@efg-paderbo
 rn.de
CATEGORIES:Gruppen
URL;VALUE=URI:https://efg-paderborn.de/mc-events/krabbelgruppe/?mc_id=71
METHOD:PUBLISH
END:VEVENT
END:VCALENDAR