BEGIN:VCALENDAR
VERSION:2.0
PRODID:spatie/icalendar-generator
DESCRIPTION:Veranstaltungen von EFG Paderborn
X-WR-CALDESC:Veranstaltungen von EFG Paderborn
REFRESH-INTERVAL;VALUE=DURATION:PT1440M
X-PUBLISHED-TTL:PT1440M
BEGIN:VTIMEZONE
TZID:Europe/Berlin
BEGIN:STANDARD
DTSTART:20231029T030000Z
TZOFFSETFROM:+0200
TZOFFSETTO:+0100
END:STANDARD
BEGIN:DAYLIGHT
DTSTART:20240331T020000Z
TZOFFSETFROM:+0100
TZOFFSETTO:+0200
END:DAYLIGHT
BEGIN:STANDARD
DTSTART:20241027T030000Z
TZOFFSETFROM:+0200
TZOFFSETTO:+0100
END:STANDARD
END:VTIMEZONE
BEGIN:VTIMEZONE
TZID:UTC
BEGIN:STANDARD
DTSTART:20250725T222208Z
TZOFFSETFROM:+0000
TZOFFSETTO:+0000
END:STANDARD
END:VTIMEZONE
BEGIN:VEVENT
UID:107-6
DTSTAMP:20260421T222208Z
SUMMARY:Teenie-Gruppe
LOCATION:FeG Paderborn Stargarder Str. 3  Paderborn  33098
ORGANIZER;CN=EFG Paderborn:MAILTO:website@efg-paderborn.de
RRULE:FREQ=WEEKLY;UNTIL=20240707T000000Z
DTSTART;TZID=Europe/Berlin:20240628T193000
DTEND;TZID=Europe/Berlin:20240628T210000
X-ALT-DESC;FMTTYPE=TEXT/HTML:
CATEGORIES:Gruppen
URL;VALUE=URI:https://efg-paderborn.de/mc-events/teenie-gruppe/?mc_id=107
METHOD:PUBLISH
END:VEVENT
END:VCALENDAR