BEGIN:VCALENDAR
VERSION:2.0
PRODID:spatie/icalendar-generator
DESCRIPTION:Veranstaltungen von EFG Paderborn
X-WR-CALDESC:Veranstaltungen von EFG Paderborn
REFRESH-INTERVAL;VALUE=DURATION:PT1440M
X-PUBLISHED-TTL:PT1440M
BEGIN:VTIMEZONE
TZID:Europe/Berlin
BEGIN:DAYLIGHT
DTSTART:20250330T020000Z
TZOFFSETFROM:+0100
TZOFFSETTO:+0200
END:DAYLIGHT
BEGIN:STANDARD
DTSTART:20251026T030000Z
TZOFFSETFROM:+0200
TZOFFSETTO:+0100
END:STANDARD
END:VTIMEZONE
BEGIN:VTIMEZONE
TZID:UTC
BEGIN:STANDARD
DTSTART:20250725T125417Z
TZOFFSETFROM:+0000
TZOFFSETTO:+0000
END:STANDARD
END:VTIMEZONE
BEGIN:VEVENT
UID:265-65
DTSTAMP:20260421T125417Z
SUMMARY:Gottesdienst mit Abendmahl (gemeinsam mit der FEG)
LOCATION:FeG Paderborn Stargarder Str. 3  Paderborn  33098
ORGANIZER;CN=EFG Paderborn:MAILTO:website@efg-paderborn.de
DTSTART;TZID=Europe/Berlin:20250803T101500
DTEND;TZID=Europe/Berlin:20250803T114500
X-ALT-DESC;FMTTYPE=TEXT/HTML:
CATEGORIES:Gottesdienst,  Besonderes,  Jugendgottesdienst
URL;VALUE=URI:https://efg-paderborn.de/mc-events/gottesdienst-mit-abendmahl
 -gemeinsam-mit-der-feg/
METHOD:PUBLISH
END:VEVENT
END:VCALENDAR