BEGIN:VCALENDAR
VERSION:2.0
PRODID:spatie/icalendar-generator
DESCRIPTION:Veranstaltungen von EFG Paderborn
X-WR-CALDESC:Veranstaltungen von EFG Paderborn
REFRESH-INTERVAL;VALUE=DURATION:PT1440M
X-PUBLISHED-TTL:PT1440M
BEGIN:VTIMEZONE
TZID:Europe/Berlin
BEGIN:STANDARD
DTSTART:20231029T030000Z
TZOFFSETFROM:+0200
TZOFFSETTO:+0100
END:STANDARD
BEGIN:DAYLIGHT
DTSTART:20240331T020000Z
TZOFFSETFROM:+0100
TZOFFSETTO:+0200
END:DAYLIGHT
END:VTIMEZONE
BEGIN:VTIMEZONE
TZID:UTC
BEGIN:STANDARD
DTSTART:20250725T142222Z
TZOFFSETFROM:+0000
TZOFFSETTO:+0000
END:STANDARD
END:VTIMEZONE
BEGIN:VEVENT
UID:40-11
DTSTAMP:20260421T142222Z
SUMMARY:Gottesdienst (Karfreitag)
LOCATION:FeG Paderborn Stargarder Str. 3  Paderborn  33098
ORGANIZER;CN=EFG Paderborn:MAILTO:website@efg-paderborn.de
DTSTART;TZID=Europe/Berlin:20240329T160000
DTEND;TZID=Europe/Berlin:20240329T173000
X-ALT-DESC;FMTTYPE=TEXT/HTML:Der Karfreitagsgottesdienst findet gemeinsam m
 it der FEG statt.
CATEGORIES:Gottesdienst
URL;VALUE=URI:https://efg-paderborn.de/mc-events/gottesdienst-karfreitag/
METHOD:PUBLISH
END:VEVENT
END:VCALENDAR